BEGIN:VCALENDAR
VERSION:2.0
PRODID:icalendar-ruby
CALSCALE:GREGORIAN
METHOD:PUBLISH
BEGIN:VEVENT
DTSTAMP:20260423T111151Z
UID:10-1208434@gracepointsc.com
DTSTART:20260921T103000Z
DTEND:20260921T233000Z
CLASS:PUBLIC
CREATED:20260422T222808
DESCRIPTION:The Men's Prayer group meets on Monday mornings at 6:30am. Come
  whenever you can! Contact Jimmy Mason for more information.
LAST-MODIFIED:20260422T222808
LOCATION:
SUMMARY:Men's Prayer Meeting
URL;VALUE=URI:https://www.gracepointsc.com/events/mens-prayer-meeting/2026-
 09-21
ATTACH;FILENAME=Events-2024-02-18.002.png;FMTTYPE=image/png:https://dq5pwpg
 1q8ru0.cloudfront.net/2024/02/24/15/14/33/528ecca0-7025-464b-b44a-caf4b604
 b6a4/Events-2024-02-18.002.png
END:VEVENT
END:VCALENDAR
